BEGIN:VCALENDAR
VERSION:2.0
PRODID:-//Northampton County Medical Society - ECPv6.15.20//NONSGML v1.0//EN
CALSCALE:GREGORIAN
METHOD:PUBLISH
X-WR-CALNAME:Northampton County Medical Society
X-ORIGINAL-URL:https://nc-medsoc.org
X-WR-CALDESC:Events for Northampton County Medical Society
REFRESH-INTERVAL;VALUE=DURATION:PT1H
X-Robots-Tag:noindex
X-PUBLISHED-TTL:PT1H
BEGIN:VTIMEZONE
TZID:America/New_York
BEGIN:DAYLIGHT
TZOFFSETFROM:-0500
TZOFFSETTO:-0400
TZNAME:EDT
DTSTART:20230312T070000
END:DAYLIGHT
BEGIN:STANDARD
TZOFFSETFROM:-0400
TZOFFSETTO:-0500
TZNAME:EST
DTSTART:20231105T060000
END:STANDARD
BEGIN:DAYLIGHT
TZOFFSETFROM:-0500
TZOFFSETTO:-0400
TZNAME:EDT
DTSTART:20240310T070000
END:DAYLIGHT
BEGIN:STANDARD
TZOFFSETFROM:-0400
TZOFFSETTO:-0500
TZNAME:EST
DTSTART:20241103T060000
END:STANDARD
BEGIN:DAYLIGHT
TZOFFSETFROM:-0500
TZOFFSETTO:-0400
TZNAME:EDT
DTSTART:20250309T070000
END:DAYLIGHT
BEGIN:STANDARD
TZOFFSETFROM:-0400
TZOFFSETTO:-0500
TZNAME:EST
DTSTART:20251102T060000
END:STANDARD
END:VTIMEZONE
BEGIN:VEVENT
DTSTART;TZID=America/New_York:20240803T110000
DTEND;TZID=America/New_York:20240803T160000
DTSTAMP:20260424T213717
CREATED:20230601T123512Z
LAST-MODIFIED:20240627T152512Z
UID:3012-1722682800-1722700800@nc-medsoc.org
SUMMARY:Northampton County Medical Society 2024 Summer Picnic - 8/3/24
DESCRIPTION:Northampton County Medical Society 2024 Summer Picnic  \nSaturday – August 3\, 2024 – 11AM – 4PM \nBethlehem Boating Club – 1400 Hope Road\, Easton\, PA   18045\nFree to members and immediate families\nJoin us with your peers\, colleagues and families for a day of fun\, games and picnic food \nThis event is open to our members their immediate families/spouse/significant other and children  \nReservation Deadline: July 20\, 2024
URL:https://nc-medsoc.org/event/northampton-county-medical-society-2023-summer-picnic-7-22-23/
LOCATION:Bethlehem Boating Club\, 1400 Hope Road\, Easton\, PA\, 18045\, United States
ORGANIZER;CN="Northampton County Medical Society":MAILTO:ncms1849@rcn.com
END:VEVENT
END:VCALENDAR