BEGIN:VCALENDAR
VERSION:2.0
PRODID:-//Northampton County Medical Society - ECPv6.15.20//NONSGML v1.0//EN
CALSCALE:GREGORIAN
METHOD:PUBLISH
X-WR-CALNAME:Northampton County Medical Society
X-ORIGINAL-URL:https://nc-medsoc.org
X-WR-CALDESC:Events for Northampton County Medical Society
REFRESH-INTERVAL;VALUE=DURATION:PT1H
X-Robots-Tag:noindex
X-PUBLISHED-TTL:PT1H
BEGIN:VTIMEZONE
TZID:America/New_York
BEGIN:DAYLIGHT
TZOFFSETFROM:-0500
TZOFFSETTO:-0400
TZNAME:EDT
DTSTART:20240310T070000
END:DAYLIGHT
BEGIN:STANDARD
TZOFFSETFROM:-0400
TZOFFSETTO:-0500
TZNAME:EST
DTSTART:20241103T060000
END:STANDARD
BEGIN:DAYLIGHT
TZOFFSETFROM:-0500
TZOFFSETTO:-0400
TZNAME:EDT
DTSTART:20250309T070000
END:DAYLIGHT
BEGIN:STANDARD
TZOFFSETFROM:-0400
TZOFFSETTO:-0500
TZNAME:EST
DTSTART:20251102T060000
END:STANDARD
BEGIN:DAYLIGHT
TZOFFSETFROM:-0500
TZOFFSETTO:-0400
TZNAME:EDT
DTSTART:20260308T070000
END:DAYLIGHT
BEGIN:STANDARD
TZOFFSETFROM:-0400
TZOFFSETTO:-0500
TZNAME:EST
DTSTART:20261101T060000
END:STANDARD
END:VTIMEZONE
BEGIN:VEVENT
DTSTART;TZID=America/New_York:20250118T183000
DTEND;TZID=America/New_York:20250118T223000
DTSTAMP:20260424T144230
CREATED:20231213T155802Z
LAST-MODIFIED:20250108T181026Z
UID:3139-1737225000-1737239400@nc-medsoc.org
SUMMARY:2025 Northampton County Medical Society Inaugural
DESCRIPTION:The Board of Directors of the Northampton County Medical Society\nCordially Invite you and your spouse or guest to the 60th Inaugural Dinner\nTo Celebrate the Installation of\nManeesh Ailawadi\, MD\nOne Hundred Sixtieth President\nSaturday January 18\, 2025 – 6:30PM\nNorthampton Country Club\n5049 William Penn Hwy\nEaston\, PA 18045\n\nThis event is free for our member physicians\, residents and students \nspouses and guests $ 75.00\nDeadline for Reservations January 9\, 2025 – 11:30PM\nFor a copy of the event Invitation click here\nClick here to view photos of last years Inaugural event in our photogallery\n 
URL:https://nc-medsoc.org/event/2024-northampton-county-medical-society-inaugural/
LOCATION:Northampton Country Club\, 5049 William Penn Highway\, Easton\, PA\, 18045\, United States
ORGANIZER;CN="Northampton County Medical Society":MAILTO:ncms1849@rcn.com
END:VEVENT
END:VCALENDAR