BEGIN:VCALENDAR
VERSION:2.0
PRODID:-//Northampton County Medical Society - ECPv6.15.20//NONSGML v1.0//EN
CALSCALE:GREGORIAN
METHOD:PUBLISH
X-WR-CALNAME:Northampton County Medical Society
X-ORIGINAL-URL:https://nc-medsoc.org
X-WR-CALDESC:Events for Northampton County Medical Society
REFRESH-INTERVAL;VALUE=DURATION:PT1H
X-Robots-Tag:noindex
X-PUBLISHED-TTL:PT1H
BEGIN:VTIMEZONE
TZID:America/New_York
BEGIN:DAYLIGHT
TZOFFSETFROM:-0500
TZOFFSETTO:-0400
TZNAME:EDT
DTSTART:20220313T070000
END:DAYLIGHT
BEGIN:STANDARD
TZOFFSETFROM:-0400
TZOFFSETTO:-0500
TZNAME:EST
DTSTART:20221106T060000
END:STANDARD
BEGIN:DAYLIGHT
TZOFFSETFROM:-0500
TZOFFSETTO:-0400
TZNAME:EDT
DTSTART:20230312T070000
END:DAYLIGHT
BEGIN:STANDARD
TZOFFSETFROM:-0400
TZOFFSETTO:-0500
TZNAME:EST
DTSTART:20231105T060000
END:STANDARD
BEGIN:DAYLIGHT
TZOFFSETFROM:-0500
TZOFFSETTO:-0400
TZNAME:EDT
DTSTART:20240310T070000
END:DAYLIGHT
BEGIN:STANDARD
TZOFFSETFROM:-0400
TZOFFSETTO:-0500
TZNAME:EST
DTSTART:20241103T060000
END:STANDARD
BEGIN:DAYLIGHT
TZOFFSETFROM:-0500
TZOFFSETTO:-0400
TZNAME:EDT
DTSTART:20250309T070000
END:DAYLIGHT
BEGIN:STANDARD
TZOFFSETFROM:-0400
TZOFFSETTO:-0500
TZNAME:EST
DTSTART:20251102T060000
END:STANDARD
END:VTIMEZONE
BEGIN:VEVENT
DTSTART;TZID=America/New_York:20240319T183000
DTEND;TZID=America/New_York:20240319T210000
DTSTAMP:20260425T100550
CREATED:20231219T222410Z
LAST-MODIFIED:20240201T165717Z
UID:3203-1710873000-1710882000@nc-medsoc.org
SUMMARY:NCMS and LCMS Joint CME In-Person Membership Dinner Meeting - Opioid Abuse Licensure Requirement - March 19 2024 at Homewood Suites - Center Valley
DESCRIPTION:3350 Center Valley Parkway\, Center Valley\, PA 18034\nRegistration begins at 6:00pm\, meeting to start approximately 6:30p\n \nPROGRAM: \nSafe and Effective Management of Acute and Chronic Pain\n  \nRegistration Begins February 1\, 2024\n  \nCLICK HERE FOR A PDF OF THE INVITATION
URL:https://nc-medsoc.org/event/ncms-and-lcms-joint-cme-in-person-membership-meeting-opioid-abuse-licensure-requirement-march-19-2024-at-homewood-suites-center-valley/
LOCATION:Homewood Suites – Center Valley\, 3350 Center Valley Pkwy\, Center Valley\, PA\, 18034\, United States
ORGANIZER;CN="Northampton County Medical Society":MAILTO:ncms1849@rcn.com
END:VEVENT
BEGIN:VEVENT
DTSTART;TZID=America/New_York:20231114T183000
DTEND;TZID=America/New_York:20231114T200000
DTSTAMP:20260425T100550
CREATED:20231023T182217Z
LAST-MODIFIED:20231023T183706Z
UID:3111-1699986600-1699992000@nc-medsoc.org
SUMMARY:Northampton and Lehigh County Medical Society   JOINT GENERAL MEMBERSHIP MEETING - Physician Burnout - Tuesday - NOVEMBER 14\, 2023 - 6:30PM
DESCRIPTION:Tuesday November 14\, 2023 – 6:30PM – Registration begins at 6:00PM\, dinner to start 6:30pm – Dinner Buffet – catering by Diana’s Café & Catering\nProgram begins 7PM – 1 Hour Program\nPROGRAM: \nHEALTHCARE BURNOUT \n**Please note – This program does not have a CME credit component**\nLehigh Valley Health Network Center for Healthcare Education\n3900 Sierra Cir\, Center Valley\, PA 18034\nSPEAKERS: \nChelsea Z. Busch\, PhD\, Pediatric Psychologist \nKristine L. Schultz\, MD FACEP\, Emergency Medicine \nLynn M Wilson\, DO\, Primary Care Geriatrician \nDr. Busch\, Wilson and Schultz will present their program and discuss what healthcare burn out is\, who is at risk and how it manifests in stages. They will also discuss evidence-based strategies for \npersonal coping and identification based on the AMA Steps Forward model\, as well as from psychology texts. \nThey will discuss how to advocate for organizational change and low budget things you can do as a leader to consider and measure wellness in your organization. \nIntroduction by Joseph Pinto\, MHA – President of Lehigh Valley Hospital (LVH)–Hecktown Oaks. \nHe also serves as Vice President of Lehigh Valley Health Network (LVHN) \n  \nPLEASE RSVP ON OR BEFORE SUNDAY – NOVEMBER 5TH\, 2023\n\nTo register\, please go to our website\n \nhttps:// https://nc-medsoc.org/events/\n \nPlease note this meeting is only for members of NCMS & LCMS\n  \nDownload a PDF of the Event Flyer Here
URL:https://nc-medsoc.org/event/northampton-and-lehigh-county-medical-society-joint-general-membership-meeting-physician-burnout-tuesday-november-14-2023-630pm/
LOCATION:LVHN Center for Healthcare Education\, 3900 Sierra Circle\, Center Valley\, PA\, 18034\, United States
ORGANIZER;CN="Northampton County Medical Society":MAILTO:ncms1849@rcn.com
END:VEVENT
BEGIN:VEVENT
DTSTART;TZID=America/New_York:20230919T173000
DTEND;TZID=America/New_York:20230919T203000
DTSTAMP:20260425T100550
CREATED:20230830T190951Z
LAST-MODIFIED:20230830T223924Z
UID:3063-1695144600-1695155400@nc-medsoc.org
SUMMARY:Northampton and Lehigh County Medical Society   JOINT GENERAL MEMBERSHIP MEETING with 2.0 CME* Tuesday - September 19\, 2023 - 5:30PM
DESCRIPTION:Homewood Suites\n3350 Center Valley Parkway\, Center Valley\, PA 18034\nRegistration begins at 5:30pm\, dinner to start approximately 6:00p\n \nPROGRAM: \nWhat’s in the Local Drug Supply – an Update from a Toxicologist\nSPEAKER: Alexandra Amaducci\, D.O.\, Emergency Medicine\, Medical Toxicology\n*ACCME accreditation statement: \nThis activity has been planned and implemented in accordance with the accreditation requirements and policies of the Accreditation Council for Continuing Medical Education (ACCME) through the joint providership of the Pennsylvania Medical Society and Lehigh and Northampton County Medical Society’s. The Pennsylvania Medical Society is accredited by the ACCME to provide continuing medical education for physicians. \n*AMA designation statement: \nThe Pennsylvania Medical Society designates this Live Activity for a maximum of 2.0 AMA PRA Category 1 Credit(s)TM. Physicians should claim only the credit commensurate with the extent of their participation in the activity. \nSeptember 19th\, 2023 LCMS/NCMS GENERAL MEMBERSHIP MEETING \nPLEASE RSVP ON OR BEFORE NOON MONDAY\, SEPTEMBER 11\, 2023 \nDownload a PDF of the Event Flyer Here
URL:https://nc-medsoc.org/event/northampton-and-lehigh-county-medical-societies-general-membership-meeting-with-2-0-cme-tuesday-september-19-2023/
LOCATION:Homewood Suites – Center Valley\, 3350 Center Valley Pkwy\, Center Valley\, PA\, 18034\, United States
ORGANIZER;CN="Northampton County Medical Society":MAILTO:ncms1849@rcn.com
END:VEVENT
BEGIN:VEVENT
DTSTART;TZID=America/New_York:20230121T183000
DTEND;TZID=America/New_York:20230121T230000
DTSTAMP:20260425T100550
CREATED:20221208T203540Z
LAST-MODIFIED:20230106T163246Z
UID:1872-1674325800-1674342000@nc-medsoc.org
SUMMARY:2023 Northampton County Medical Society Inaugural
DESCRIPTION:Join us for our Inaugural Celebration on January 21\, 2023 \nat the Northampton Country Club as we install Khaldoun Makhoul\, MD \nas the Northampton County Medical Society one Hundred and Fifty Eighth President \nClick Here for a pdf of the invitation \n 
URL:https://nc-medsoc.org/event/2023-northampton-county-medical-society-inaugural/
LOCATION:Northampton Country Club\, 5049 William Penn Highway\, Easton\, PA\, 18045\, United States
ORGANIZER;CN="Northampton County Medical Society":MAILTO:ncms1849@rcn.com
END:VEVENT
END:VCALENDAR