BEGIN:VCALENDAR
VERSION:2.0
PRODID:-//Northampton County Medical Society - ECPv6.15.20//NONSGML v1.0//EN
CALSCALE:GREGORIAN
METHOD:PUBLISH
X-ORIGINAL-URL:https://nc-medsoc.org
X-WR-CALDESC:Events for Northampton County Medical Society
REFRESH-INTERVAL;VALUE=DURATION:PT1H
X-Robots-Tag:noindex
X-PUBLISHED-TTL:PT1H
BEGIN:VTIMEZONE
TZID:America/New_York
BEGIN:DAYLIGHT
TZOFFSETFROM:-0500
TZOFFSETTO:-0400
TZNAME:EDT
DTSTART:20220313T070000
END:DAYLIGHT
BEGIN:STANDARD
TZOFFSETFROM:-0400
TZOFFSETTO:-0500
TZNAME:EST
DTSTART:20221106T060000
END:STANDARD
BEGIN:DAYLIGHT
TZOFFSETFROM:-0500
TZOFFSETTO:-0400
TZNAME:EDT
DTSTART:20230312T070000
END:DAYLIGHT
BEGIN:STANDARD
TZOFFSETFROM:-0400
TZOFFSETTO:-0500
TZNAME:EST
DTSTART:20231105T060000
END:STANDARD
BEGIN:DAYLIGHT
TZOFFSETFROM:-0500
TZOFFSETTO:-0400
TZNAME:EDT
DTSTART:20240310T070000
END:DAYLIGHT
BEGIN:STANDARD
TZOFFSETFROM:-0400
TZOFFSETTO:-0500
TZNAME:EST
DTSTART:20241103T060000
END:STANDARD
BEGIN:DAYLIGHT
TZOFFSETFROM:-0500
TZOFFSETTO:-0400
TZNAME:EDT
DTSTART:20250309T070000
END:DAYLIGHT
BEGIN:STANDARD
TZOFFSETFROM:-0400
TZOFFSETTO:-0500
TZNAME:EST
DTSTART:20251102T060000
END:STANDARD
BEGIN:DAYLIGHT
TZOFFSETFROM:-0500
TZOFFSETTO:-0400
TZNAME:EDT
DTSTART:20260308T070000
END:DAYLIGHT
BEGIN:STANDARD
TZOFFSETFROM:-0400
TZOFFSETTO:-0500
TZNAME:EST
DTSTART:20261101T060000
END:STANDARD
BEGIN:DAYLIGHT
TZOFFSETFROM:-0500
TZOFFSETTO:-0400
TZNAME:EDT
DTSTART:20270314T070000
END:DAYLIGHT
BEGIN:STANDARD
TZOFFSETFROM:-0400
TZOFFSETTO:-0500
TZNAME:EST
DTSTART:20271107T060000
END:STANDARD
END:VTIMEZONE
BEGIN:VEVENT
DTSTART;TZID=America/New_York:20260212T183000
DTEND;TZID=America/New_York:20260212T203000
DTSTAMP:20260423T115307
CREATED:20260102T222617Z
LAST-MODIFIED:20260124T113821Z
UID:4011-1770921000-1770928200@nc-medsoc.org
SUMMARY:NCMS / LCMS CME Meeting - Updates in Menopause Treatment and Management - Thursday -  February 12\, 2026 - 6:30PM - Northampton Country Club
DESCRIPTION:Northampton and Lehigh County Medical Society \nGENERAL MEMBERSHIP MEETING with CME*\nFebruary 12\, 2026 \nNorthampton Country Club \n5049 William Penn Highway \nEaston\, PA 18045 \nRegistration/Sign-in/Snacks/Hors D’oeuvre’s starting at 6:30 PM \nProgram – 7:15 PM – 8:15 PM \nThis meeting is limited to the first 30 physicians registering for the program\nPROGRAM:   \nUpdates in Menopause Treatment and Management \nSpeaker: NCMS 2026 President Douha Sabouni\, MD\, FACOG \n  \n* ACCME accreditation statement:\nThis activity has been planned and implemented in accordance with the accreditation requirements and policies of the Accreditation Council for Continuing Medical Education (ACCME) \nthrough the joint providership of the Pennsylvania Medical Society and Lehigh County Medical Society. \nThe Pennsylvania Medical Society is accredited by the ACCME to provide continuing medical education for physicians. \nAMA designation statement:\nThe Pennsylvania Medical Society designates this Live Activity for a maximum of 1.0 AMA PRA Category 1 Credit(s)™. Physicians should claim only the credit commensurate with the extent of their participation in the activity. \nYou must register to attend on or before Friday\, February 6\, 2026 \n  \nThis in-person meeting is open to all Physician Members\, Residents and Medical Students of the  \nNorthampton and Lehigh County Medical Society’s
URL:https://nc-medsoc.org/event/ncms-cme-meeting-updates-in-menopause-treatment-and-management-thursday-february-12-2026-630pm-northampton-country-club/
LOCATION:Northampton Country Club\, 5049 William Penn Highway\, Easton\, PA\, 18045\, United States
ORGANIZER;CN="Northampton County Medical Society":MAILTO:ncms1849@rcn.com
END:VEVENT
BEGIN:VEVENT
DTSTART;TZID=America/New_York:20260131T183000
DTEND;TZID=America/New_York:20260131T223000
DTSTAMP:20260423T115307
CREATED:20251215T221437Z
LAST-MODIFIED:20260124T112538Z
UID:3966-1769884200-1769898600@nc-medsoc.org
SUMMARY:2026 Northampton County Medical Society Inaugural Celebration
DESCRIPTION:2026 NCMS Inaugural\n\n\n\nThe Board of Directors of the Northampton County Medical Society\nCordially Invite you and your spouse or guest to the 61st Inaugural Dinner\nTo Celebrate the Installation of\nDouha Sabouni\, MD\nOne Hundred Sixty-First President\nSaturday January 31\, 2026 – 6:30PM\nNorthampton Country Club\n5049 William Penn Hwy\nEaston\, PA 18045\n\nCost $ 30.00 per-person\n\n  \n\nDeadline for Reservations January 23\, 2026 – 11:30PM\n  \n\nClick here for a pdf of the invitation proof\n  \n\nClick here to view photos of last years Inaugural event in our photo gallery\n 
URL:https://nc-medsoc.org/event/2026-northampton-county-medical-society-inaugural-celebration/
LOCATION:Northampton Country Club\, 5049 William Penn Highway\, Easton\, PA\, 18045\, United States
ORGANIZER;CN="Northampton County Medical Society":MAILTO:ncms1849@rcn.com
END:VEVENT
BEGIN:VEVENT
DTSTART;TZID=America/New_York:20251118T183000
DTEND;TZID=America/New_York:20251118T203000
DTSTAMP:20260423T115307
CREATED:20251024T122339Z
LAST-MODIFIED:20251024T122403Z
UID:3948-1763490600-1763497800@nc-medsoc.org
SUMMARY:NCMS/LCMS Joint Opioid Abuse Virtual CME Meeting - Tuesday -  November 18\, 2025 - 6:30PM - Free To Members
DESCRIPTION:The Northampton County Medical Society\nwill be holding an Opioid Abuse Licensure Requirement Virtual CME Meeting on\nTuesday\, November 18\, 2025  6:30PM – 8:30PM\nfor our member physicians. \nThe PA Department of Health and Quality Insights have partnered to offer live-virtual opioid education sessions at no cost to you. This program qualifies for ACT 124 Prescribing Practices for Opioids CME or Patient Safety/Risk Management Credit (but not both). \nEach module also fulfills one of the required eight training hours on opioid or other substance use disorders treatment\, as mandated by the Consolidated Appropriations Act of 2023 for DEA-registered practitioners. \nPhysicians: The CAMC Health Education and Research Institute designates this virtual live activity for a maximum of 1 AMA PRA Category 1 Credit(s)™ for each module. Physicians should only claim credit commensurate with the extent of their participation in the activity. \n  \nIMPORTANT: You must complete the \nregistration through the zoom portal \nbefore the meeting and also both the \nModule 2 and Module 3 Pre-Assessment \nquestionnaires BEFORE the program \nClick Here to Access Registration Portal  \nAccess Each Individual Pre-Assessment\nQuestionnaire and Complete Here: \nClick Here to Access Module 2 Pre-Assessment \nClick Here to Access Module 3 Pre-Assessment
URL:https://nc-medsoc.org/event/ncms-lcms-joint-opioid-abuse-virtual-cme-meeting-tuesday-november-18-2025-630pm-free-to-members/
LOCATION:Virtual Meeting
ORGANIZER;CN="Northampton County Medical Society":MAILTO:ncms1849@rcn.com
END:VEVENT
BEGIN:VEVENT
DTSTART;TZID=America/New_York:20250810T110000
DTEND;TZID=America/New_York:20250810T150000
DTSTAMP:20260423T115307
CREATED:20250716T202327Z
LAST-MODIFIED:20250718T115720Z
UID:3880-1754823600-1754838000@nc-medsoc.org
SUMMARY:2025 Northampton County Medical Society Picnic - August 10\, 2025 - 11AM-3PM
DESCRIPTION:2025 Northampton County\nMedical Society\nSummer Brunch Picnic\nSunday\, August\, 10\, 2025 – 11AM – 3PM\nBethlehem Boating Club\n1400 Hope Road\nEaston\, PA 18045\nFree to our Members and Immediate Families\nJoin us with your peers\, colleagues and families for a day of fun games and brunch picnic food\nThis event is open to our members their immediate families/spouse/significant other and children\n 
URL:https://nc-medsoc.org/event/2025-northampton-county-medical-society-picnic-august-10-2025-11am-3pm/
LOCATION:Bethlehem Boating Club\, 1400 Hope Road\, Easton\, PA\, 18045\, United States
ORGANIZER;CN="Northampton County Medical Society":MAILTO:ncms1849@rcn.com
END:VEVENT
BEGIN:VEVENT
DTSTART;TZID=America/New_York:20250422T183000
DTEND;TZID=America/New_York:20250422T200000
DTSTAMP:20260423T115307
CREATED:20250326T204020Z
LAST-MODIFIED:20250331T161737Z
UID:3847-1745346600-1745352000@nc-medsoc.org
SUMMARY:NCMS/LCMS Virtual Joint General Membership CME Meeting - April 22\, 2025 - 6:30PM
DESCRIPTION:Northampton and Lehigh County Medical Society \nJOINT GENERAL MEMBERSHIP MEETING\nwith CME*\nApril 22\, 2025\nVIRTUAL \nSign-in begins at 6:30pm\, meeting to start approximately 7:00p \n  \nPROGRAM: \nRecognition\, Diagnosis\, and Treatment of Common Tick-Borne Illness \n \nSpeakers: Amy K Slenker\, MD\n* ACCME accreditation statement: \nThis activity has been planned and implemented in accordance with the accreditation requirements and policies of the Accreditation Council for Continuing Medical Education (ACCME) through the joint providership of the Pennsylvania Medical Society and Lehigh County Medical Society. The Pennsylvania Medical Society is accredited by the ACCME to provide continuing medical education for physicians. \nAMA designation statement: \nThe Pennsylvania Medical Society designates this Live Activity for a maximum of 1.0 AMA PRA Category 1 Credit(s)™. Physicians should claim only the credit commensurate with the extent of their participation in the activity. \nApril 22\, 2025 GENERAL MEMBERSHIP MEETING \nPLEASE RSVP ON OR BEFORE WEDNESDAY\, April 16th\nPlease note this meeting is only for members of PAMED and their respective county medical society.
URL:https://nc-medsoc.org/event/virtual-joint-general-membership-cme-meeting-april-22-2025-630pm/
LOCATION:Virtual Meeting
END:VEVENT
BEGIN:VEVENT
DTSTART;TZID=America/New_York:20250320T180000
DTEND;TZID=America/New_York:20250320T203000
DTSTAMP:20260423T115307
CREATED:20250224T185032Z
LAST-MODIFIED:20250305T174236Z
UID:3832-1742493600-1742502600@nc-medsoc.org
SUMMARY:General Membership Dinner Meeting - "The State of Medicine" - Thursday March 20\, 2025 - Homewood Suites\, Center Valley
DESCRIPTION:Northampton and Lehigh County Medical Society \nJOINT GENERAL MEMBERSHIP MEETING\nMarch 20\, 2025 \nat Homewood Suites\n3350 Center Valley Parkway\, Center Valley\, PA 18034\nRegistration begins at 5:30pm\, meeting to start approximately 6:30p\n \nPROGRAM: \nThe State of Medicine\nMedical Society: Protecting Patients\, Empowering Physicians\nDiscussing the following topics:\nNon-Compete Contracts\, Scope of Practice\, and Venue Shopping\n \nSpeakers: Atty. Kevin H. Conrad\, and Atty. Candy Barr Heimbach of Dickie\, McCamey & Chilcote\, P.C.\, Atty. Shawn Phillips of Phillips Law Office\, PLLC\nZachary Gates\, Senior Director\, Government Relations\, PAMED\nYou must register to attend on or before Tuesday\, March 11th \nTo register\, please go to the LCMS website\, or scan the QR code\n \nA heartfelt thank you to all our sponsors for making this meeting possible\nDinner options\, please make your choice when registering:\nFilet (6oz) with Shrimp Skewer         Grilled Salmon          Vegetarian – Ratatouille-stuffed Portabella
URL:https://nc-medsoc.org/event/general-membership-dinner-meeting-the-state-of-medicine-thursday-march-20-2025-homewood-suites-center-valley/
LOCATION:PA
END:VEVENT
BEGIN:VEVENT
DTSTART;TZID=America/New_York:20250118T183000
DTEND;TZID=America/New_York:20250118T223000
DTSTAMP:20260423T115307
CREATED:20231213T155802Z
LAST-MODIFIED:20250108T181026Z
UID:3139-1737225000-1737239400@nc-medsoc.org
SUMMARY:2025 Northampton County Medical Society Inaugural
DESCRIPTION:The Board of Directors of the Northampton County Medical Society\nCordially Invite you and your spouse or guest to the 60th Inaugural Dinner\nTo Celebrate the Installation of\nManeesh Ailawadi\, MD\nOne Hundred Sixtieth President\nSaturday January 18\, 2025 – 6:30PM\nNorthampton Country Club\n5049 William Penn Hwy\nEaston\, PA 18045\n\nThis event is free for our member physicians\, residents and students \nspouses and guests $ 75.00\nDeadline for Reservations January 9\, 2025 – 11:30PM\nFor a copy of the event Invitation click here\nClick here to view photos of last years Inaugural event in our photogallery\n 
URL:https://nc-medsoc.org/event/2024-northampton-county-medical-society-inaugural/
LOCATION:Northampton Country Club\, 5049 William Penn Highway\, Easton\, PA\, 18045\, United States
ORGANIZER;CN="Northampton County Medical Society":MAILTO:ncms1849@rcn.com
END:VEVENT
BEGIN:VEVENT
DTSTART;TZID=America/New_York:20240917T183000
DTEND;TZID=America/New_York:20240917T203000
DTSTAMP:20260423T115307
CREATED:20220729T161423Z
LAST-MODIFIED:20240913T132039Z
UID:1701-1726597800-1726605000@nc-medsoc.org
SUMMARY:Recognizing and Responding to Children at Risk  Suspected Child Abuse & Neglect (SCAN) Education for Physicians
DESCRIPTION:Registration for this event is now closed as of 9/12/24\n  \nPresenters \nMarla C. Farrell\, MD – retired from the Children’s Advocacy Center of NEPA as a medical examiner in the evaluation of suspected child victims of abuse and neglect \nKim Kickline – Assistant Administrator\, Northampton County Children & Youth\n \nTuesday\, September 17\, 2024 – 6:30 to 8:30pm\, virtual \nYou will receive the link to this meeting after completing registration. Please see below. \nSCAN is a program of the PA Chapter\, American Academy of Pediatrics and is approved for Act 31. At the conclusion of this activity\, participants should be able to: \n\nIdentify the role of child protection \nDefine categories of child abuse in the law\nRecognize potential risks/indicators of child abuse/neglect\nDescribe role of mandated reporter\nExplain referral process and follow up\nUtilize prescribed reporting channels and processes to report suspected child abuse via telephone or the Internet.\n\nThis activity has been planned and implemented in accordance with the accreditation requirements and policies of the Accreditation Council for Continuing Medical Education through the joint providership of the Pennsylvania Medical Society and the Pennsylvania Chapter of the American Academy of Pediatrics. The Pennsylvania Medical Society is accredited by the ACCME to provide continuing medical education for physicians. \nThe Pennsylvania Medical Society designates this live activity for a maximum of 2.0 AMA PRA Category 1 Credit(s)™. Physicians should only claim credit commensurate with the extent of their participation in the educational activity. \nThe faculty and planning committee members for this activity have no relevant financial relationships with ineligible companies to disclose. \nDownload a PDF for this Event
URL:https://nc-medsoc.org/event/recognizing-and-responding-to-children-at-risk-suspected-child-abuse-neglect-scan-education-for-physicians/
LOCATION:Online Zoom Event
ORGANIZER;CN="Doug Kilpatrick":MAILTO:ncms1849@rcn.com
END:VEVENT
BEGIN:VEVENT
DTSTART;TZID=America/New_York:20240803T110000
DTEND;TZID=America/New_York:20240803T160000
DTSTAMP:20260423T115307
CREATED:20230601T123512Z
LAST-MODIFIED:20240627T152512Z
UID:3012-1722682800-1722700800@nc-medsoc.org
SUMMARY:Northampton County Medical Society 2024 Summer Picnic - 8/3/24
DESCRIPTION:Northampton County Medical Society 2024 Summer Picnic  \nSaturday – August 3\, 2024 – 11AM – 4PM \nBethlehem Boating Club – 1400 Hope Road\, Easton\, PA   18045\nFree to members and immediate families\nJoin us with your peers\, colleagues and families for a day of fun\, games and picnic food \nThis event is open to our members their immediate families/spouse/significant other and children  \nReservation Deadline: July 20\, 2024
URL:https://nc-medsoc.org/event/northampton-county-medical-society-2023-summer-picnic-7-22-23/
LOCATION:Bethlehem Boating Club\, 1400 Hope Road\, Easton\, PA\, 18045\, United States
ORGANIZER;CN="Northampton County Medical Society":MAILTO:ncms1849@rcn.com
END:VEVENT
BEGIN:VEVENT
DTSTART;TZID=America/New_York:20240319T183000
DTEND;TZID=America/New_York:20240319T210000
DTSTAMP:20260423T115307
CREATED:20231219T222410Z
LAST-MODIFIED:20240201T165717Z
UID:3203-1710873000-1710882000@nc-medsoc.org
SUMMARY:NCMS and LCMS Joint CME In-Person Membership Dinner Meeting - Opioid Abuse Licensure Requirement - March 19 2024 at Homewood Suites - Center Valley
DESCRIPTION:3350 Center Valley Parkway\, Center Valley\, PA 18034\nRegistration begins at 6:00pm\, meeting to start approximately 6:30p\n \nPROGRAM: \nSafe and Effective Management of Acute and Chronic Pain\n  \nRegistration Begins February 1\, 2024\n  \nCLICK HERE FOR A PDF OF THE INVITATION
URL:https://nc-medsoc.org/event/ncms-and-lcms-joint-cme-in-person-membership-meeting-opioid-abuse-licensure-requirement-march-19-2024-at-homewood-suites-center-valley/
LOCATION:Homewood Suites – Center Valley\, 3350 Center Valley Pkwy\, Center Valley\, PA\, 18034\, United States
ORGANIZER;CN="Northampton County Medical Society":MAILTO:ncms1849@rcn.com
END:VEVENT
BEGIN:VEVENT
DTSTART;TZID=America/New_York:20231114T183000
DTEND;TZID=America/New_York:20231114T200000
DTSTAMP:20260423T115307
CREATED:20231023T182217Z
LAST-MODIFIED:20231023T183706Z
UID:3111-1699986600-1699992000@nc-medsoc.org
SUMMARY:Northampton and Lehigh County Medical Society   JOINT GENERAL MEMBERSHIP MEETING - Physician Burnout - Tuesday - NOVEMBER 14\, 2023 - 6:30PM
DESCRIPTION:Tuesday November 14\, 2023 – 6:30PM – Registration begins at 6:00PM\, dinner to start 6:30pm – Dinner Buffet – catering by Diana’s Café & Catering\nProgram begins 7PM – 1 Hour Program\nPROGRAM: \nHEALTHCARE BURNOUT \n**Please note – This program does not have a CME credit component**\nLehigh Valley Health Network Center for Healthcare Education\n3900 Sierra Cir\, Center Valley\, PA 18034\nSPEAKERS: \nChelsea Z. Busch\, PhD\, Pediatric Psychologist \nKristine L. Schultz\, MD FACEP\, Emergency Medicine \nLynn M Wilson\, DO\, Primary Care Geriatrician \nDr. Busch\, Wilson and Schultz will present their program and discuss what healthcare burn out is\, who is at risk and how it manifests in stages. They will also discuss evidence-based strategies for \npersonal coping and identification based on the AMA Steps Forward model\, as well as from psychology texts. \nThey will discuss how to advocate for organizational change and low budget things you can do as a leader to consider and measure wellness in your organization. \nIntroduction by Joseph Pinto\, MHA – President of Lehigh Valley Hospital (LVH)–Hecktown Oaks. \nHe also serves as Vice President of Lehigh Valley Health Network (LVHN) \n  \nPLEASE RSVP ON OR BEFORE SUNDAY – NOVEMBER 5TH\, 2023\n\nTo register\, please go to our website\n \nhttps:// https://nc-medsoc.org/events/\n \nPlease note this meeting is only for members of NCMS & LCMS\n  \nDownload a PDF of the Event Flyer Here
URL:https://nc-medsoc.org/event/northampton-and-lehigh-county-medical-society-joint-general-membership-meeting-physician-burnout-tuesday-november-14-2023-630pm/
LOCATION:LVHN Center for Healthcare Education\, 3900 Sierra Circle\, Center Valley\, PA\, 18034\, United States
ORGANIZER;CN="Northampton County Medical Society":MAILTO:ncms1849@rcn.com
END:VEVENT
BEGIN:VEVENT
DTSTART;TZID=America/New_York:20230919T173000
DTEND;TZID=America/New_York:20230919T203000
DTSTAMP:20260423T115307
CREATED:20230830T190951Z
LAST-MODIFIED:20230830T223924Z
UID:3063-1695144600-1695155400@nc-medsoc.org
SUMMARY:Northampton and Lehigh County Medical Society   JOINT GENERAL MEMBERSHIP MEETING with 2.0 CME* Tuesday - September 19\, 2023 - 5:30PM
DESCRIPTION:Homewood Suites\n3350 Center Valley Parkway\, Center Valley\, PA 18034\nRegistration begins at 5:30pm\, dinner to start approximately 6:00p\n \nPROGRAM: \nWhat’s in the Local Drug Supply – an Update from a Toxicologist\nSPEAKER: Alexandra Amaducci\, D.O.\, Emergency Medicine\, Medical Toxicology\n*ACCME accreditation statement: \nThis activity has been planned and implemented in accordance with the accreditation requirements and policies of the Accreditation Council for Continuing Medical Education (ACCME) through the joint providership of the Pennsylvania Medical Society and Lehigh and Northampton County Medical Society’s. The Pennsylvania Medical Society is accredited by the ACCME to provide continuing medical education for physicians. \n*AMA designation statement: \nThe Pennsylvania Medical Society designates this Live Activity for a maximum of 2.0 AMA PRA Category 1 Credit(s)TM. Physicians should claim only the credit commensurate with the extent of their participation in the activity. \nSeptember 19th\, 2023 LCMS/NCMS GENERAL MEMBERSHIP MEETING \nPLEASE RSVP ON OR BEFORE NOON MONDAY\, SEPTEMBER 11\, 2023 \nDownload a PDF of the Event Flyer Here
URL:https://nc-medsoc.org/event/northampton-and-lehigh-county-medical-societies-general-membership-meeting-with-2-0-cme-tuesday-september-19-2023/
LOCATION:Homewood Suites – Center Valley\, 3350 Center Valley Pkwy\, Center Valley\, PA\, 18034\, United States
ORGANIZER;CN="Northampton County Medical Society":MAILTO:ncms1849@rcn.com
END:VEVENT
BEGIN:VEVENT
DTSTART;TZID=America/New_York:20230121T183000
DTEND;TZID=America/New_York:20230121T230000
DTSTAMP:20260423T115307
CREATED:20221208T203540Z
LAST-MODIFIED:20230106T163246Z
UID:1872-1674325800-1674342000@nc-medsoc.org
SUMMARY:2023 Northampton County Medical Society Inaugural
DESCRIPTION:Join us for our Inaugural Celebration on January 21\, 2023 \nat the Northampton Country Club as we install Khaldoun Makhoul\, MD \nas the Northampton County Medical Society one Hundred and Fifty Eighth President \nClick Here for a pdf of the invitation \n 
URL:https://nc-medsoc.org/event/2023-northampton-county-medical-society-inaugural/
LOCATION:Northampton Country Club\, 5049 William Penn Highway\, Easton\, PA\, 18045\, United States
ORGANIZER;CN="Northampton County Medical Society":MAILTO:ncms1849@rcn.com
END:VEVENT
END:VCALENDAR