BEGIN:VCALENDAR
VERSION:2.0
PRODID:-//Northampton County Medical Society - ECPv6.15.20//NONSGML v1.0//EN
CALSCALE:GREGORIAN
METHOD:PUBLISH
X-WR-CALNAME:Northampton County Medical Society
X-ORIGINAL-URL:https://nc-medsoc.org
X-WR-CALDESC:Events for Northampton County Medical Society
REFRESH-INTERVAL;VALUE=DURATION:PT1H
X-Robots-Tag:noindex
X-PUBLISHED-TTL:PT1H
BEGIN:VTIMEZONE
TZID:America/New_York
BEGIN:DAYLIGHT
TZOFFSETFROM:-0500
TZOFFSETTO:-0400
TZNAME:EDT
DTSTART:20250309T070000
END:DAYLIGHT
BEGIN:STANDARD
TZOFFSETFROM:-0400
TZOFFSETTO:-0500
TZNAME:EST
DTSTART:20251102T060000
END:STANDARD
BEGIN:DAYLIGHT
TZOFFSETFROM:-0500
TZOFFSETTO:-0400
TZNAME:EDT
DTSTART:20260308T070000
END:DAYLIGHT
BEGIN:STANDARD
TZOFFSETFROM:-0400
TZOFFSETTO:-0500
TZNAME:EST
DTSTART:20261101T060000
END:STANDARD
BEGIN:DAYLIGHT
TZOFFSETFROM:-0500
TZOFFSETTO:-0400
TZNAME:EDT
DTSTART:20270314T070000
END:DAYLIGHT
BEGIN:STANDARD
TZOFFSETFROM:-0400
TZOFFSETTO:-0500
TZNAME:EST
DTSTART:20271107T060000
END:STANDARD
END:VTIMEZONE
BEGIN:VEVENT
DTSTART;TZID=America/New_York:20260512T183000
DTEND;TZID=America/New_York:20260512T200000
DTSTAMP:20260423T153309
CREATED:20260320T184635Z
LAST-MODIFIED:20260423T141110Z
UID:4264-1778610600-1778616000@nc-medsoc.org
SUMMARY:Heart and Lung Transplantation in Modern Medicine - In-Person CME Program - 5/12/26
DESCRIPTION:Northampton County Medical Society \nGENERAL MEMBERSHIP MEETING with CME*\nTuesday – May 12\, 2026 – 6:30PM – 8:00PM\nat Northampton Country Club\n5049 William Penn Highway\nEaston\, PA 18045\nFree to Physician\, Resident and Student members of the NCMS\nRegistration/Sign-in/Light Meal Starting at 6:30 PM\nProgram – 7:00 PM – 8:00 PM\nThis meeting is limited to the first 30 Physicians\, Residents and Student  NCMS members registering for the program\nPROGRAM: \nHeart and Lung Transplantation in Modern Medicine\nSpeaker: Keshava Rajagopal\, MD\, PHD – Thoracic Surgeon – Philadelphia\, PA \n* ACCME accreditation statement: \nThis activity has been planned and implemented in accordance with the accreditation requirements and policies of \nthe Accreditation Council for Continuing Medical Education (ACCME) through the joint providership of the \nPennsylvania Medical Society and Lehigh County Medical Society. \nThe Pennsylvania Medical Society is accredited by the ACCME to provide continuing medical education for physicians. \nAMA designation statement: \nThe Pennsylvania Medical Society designates this Live Activity for a maximum of 1.0 AMA PRA Category 1 Credit(s)™. \nPhysicians should claim only the credit commensurate with the extent of their participation in the activity. \nPlease register to attend on or before Tuesday\, May 5\, 2026 \nThis in-person meeting is open to all Physician Members of the \nNorthampton County Medical Society
URL:https://nc-medsoc.org/event/heart-and-lung-transplantation-in-modern-medicine-cme-meeting-5-12-26/
LOCATION:Northampton Country Club\, 5049 William Penn Highway\, Easton\, PA\, 18045\, United States
ORGANIZER;CN="Northampton County Medical Society":MAILTO:ncms1849@rcn.com
END:VEVENT
END:VCALENDAR